BEGIN:VCALENDAR
VERSION:2.0
PRODID:-//Abilene Republican Women - ECPv6.10.2//NONSGML v1.0//EN
CALSCALE:GREGORIAN
METHOD:PUBLISH
X-WR-CALNAME:Abilene Republican Women
X-ORIGINAL-URL:https://abilenerepublicanwomen.org
X-WR-CALDESC:Events for Abilene Republican Women
REFRESH-INTERVAL;VALUE=DURATION:PT1H
X-Robots-Tag:noindex
X-PUBLISHED-TTL:PT1H
BEGIN:VTIMEZONE
TZID:America/Chicago
BEGIN:DAYLIGHT
TZOFFSETFROM:-0600
TZOFFSETTO:-0500
TZNAME:CDT
DTSTART:20250309T080000
END:DAYLIGHT
BEGIN:STANDARD
TZOFFSETFROM:-0500
TZOFFSETTO:-0600
TZNAME:CST
DTSTART:20251102T070000
END:STANDARD
END:VTIMEZONE
BEGIN:VEVENT
DTSTART;TZID=America/Chicago:20250701T113000
DTEND;TZID=America/Chicago:20250701T123000
DTSTAMP:20260421T143735
CREATED:20250607T221751Z
LAST-MODIFIED:20250607T221751Z
UID:2864-1751369400-1751373000@abilenerepublicanwomen.org
SUMMARY:Executive Board Meeting
DESCRIPTION:Meeting at Cheddar’s for Lunch. \nIf you’re a Committee Chair or Officer\, please attend. This helps our meetings go faster! Thank you!
URL:https://abilenerepublicanwomen.org/event/executive-board-meeting/
LOCATION:Cheddar’s Scratch Kitchen\, 3502 S Clack St\, Abilene\, TX\, 79606\, United States
END:VEVENT
BEGIN:VEVENT
DTSTART;TZID=America/Chicago:20250704T150000
DTEND;TZID=America/Chicago:20250704T170000
DTSTAMP:20260421T143735
CREATED:20250609T211103Z
LAST-MODIFIED:20250611T204746Z
UID:2872-1751641200-1751648400@abilenerepublicanwomen.org
SUMMARY:JULY 4th Freedom Day Car Rally
DESCRIPTION:Meet at the North End of the Mall parking lot. Starts at 3:00 p.m. \nBring out your flags for the big flag parade around Abilene to show our pride in American on her 249th birthday.
URL:https://abilenerepublicanwomen.org/event/july-4th-freedom-day-car-rally/
LOCATION:North Mall Parking Lot\, 4302 S Clack St\, Abilene\, TX\, United States
END:VEVENT
BEGIN:VEVENT
DTSTART;TZID=America/Chicago:20250708T183000
DTEND;TZID=America/Chicago:20250708T203000
DTSTAMP:20260421T143735
CREATED:20250609T211447Z
LAST-MODIFIED:20250704T160405Z
UID:2877-1751999400-1752006600@abilenerepublicanwomen.org
SUMMARY:ARW Regular Meeting
DESCRIPTION:Come find out about the new development north of town: Lancium. We will have a panel discussion with Phil Crowley\, County Judge\, Brad Burcham\, County Commissioner\, and Chris Watola\, of Lancium.
URL:https://abilenerepublicanwomen.org/event/arw-regular-meeting/
LOCATION:South Library\, Abilene\, 4310 Buffalo Gap Rd\, Abilene\, TX
END:VEVENT
BEGIN:VEVENT
DTSTART;TZID=America/Chicago:20250714T183000
DTEND;TZID=America/Chicago:20250714T203000
DTSTAMP:20260421T143735
CREATED:20250609T212752Z
LAST-MODIFIED:20250609T212918Z
UID:2879-1752517800-1752525000@abilenerepublicanwomen.org
SUMMARY:Declutter Class for Your Technologies Part 1
DESCRIPTION:A two-part series\, Monday Nights at 6:30\, Part 1\, July 14th\, and Part 2\, July 28th\, in the training room at Hartmann’s\, 1221 Fulwiler Rd.
URL:https://abilenerepublicanwomen.org/event/declutter-class-for-your-technologies/
LOCATION:South Library\, Abilene\, 4310 Buffalo Gap Rd\, Abilene\, TX
END:VEVENT
BEGIN:VEVENT
DTSTART;TZID=America/Chicago:20250721T183000
DTEND;TZID=America/Chicago:20250721T203000
DTSTAMP:20260421T143735
CREATED:20250609T214439Z
LAST-MODIFIED:20250708T223620Z
UID:2889-1753122600-1753129800@abilenerepublicanwomen.org
SUMMARY:Declutter Class for Your Technologies Part 2
DESCRIPTION:This is the second part that will help you declutter and figure out your phone and other devices.
URL:https://abilenerepublicanwomen.org/event/declutter-class-for-your-technologies-part-2/
LOCATION:South Library\, Abilene\, 4310 Buffalo Gap Rd\, Abilene\, TX
END:VEVENT
END:VCALENDAR