BEGIN:VCALENDAR
VERSION:2.0
PRODID:-//Abilene Republican Women - ECPv6.10.2//NONSGML v1.0//EN
CALSCALE:GREGORIAN
METHOD:PUBLISH
X-ORIGINAL-URL:https://abilenerepublicanwomen.org
X-WR-CALDESC:Events for Abilene Republican Women
REFRESH-INTERVAL;VALUE=DURATION:PT1H
X-Robots-Tag:noindex
X-PUBLISHED-TTL:PT1H
BEGIN:VTIMEZONE
TZID:America/Chicago
BEGIN:DAYLIGHT
TZOFFSETFROM:-0600
TZOFFSETTO:-0500
TZNAME:CDT
DTSTART:20250309T080000
END:DAYLIGHT
BEGIN:STANDARD
TZOFFSETFROM:-0500
TZOFFSETTO:-0600
TZNAME:CST
DTSTART:20251102T070000
END:STANDARD
END:VTIMEZONE
BEGIN:VEVENT
DTSTART;TZID=America/Chicago:20250721T183000
DTEND;TZID=America/Chicago:20250721T203000
DTSTAMP:20260421T162350
CREATED:20250609T214439Z
LAST-MODIFIED:20250708T223620Z
UID:2889-1753122600-1753129800@abilenerepublicanwomen.org
SUMMARY:Declutter Class for Your Technologies Part 2
DESCRIPTION:This is the second part that will help you declutter and figure out your phone and other devices.
URL:https://abilenerepublicanwomen.org/event/declutter-class-for-your-technologies-part-2/
LOCATION:South Library\, Abilene\, 4310 Buffalo Gap Rd\, Abilene\, TX
END:VEVENT
END:VCALENDAR