BEGIN:VCALENDAR
VERSION:2.0
PRODID:-//Abilene Republican Women - ECPv6.10.2//NONSGML v1.0//EN
CALSCALE:GREGORIAN
METHOD:PUBLISH
X-WR-CALNAME:Abilene Republican Women
X-ORIGINAL-URL:https://abilenerepublicanwomen.org
X-WR-CALDESC:Events for Abilene Republican Women
REFRESH-INTERVAL;VALUE=DURATION:PT1H
X-Robots-Tag:noindex
X-PUBLISHED-TTL:PT1H
BEGIN:VTIMEZONE
TZID:America/Chicago
BEGIN:DAYLIGHT
TZOFFSETFROM:-0600
TZOFFSETTO:-0500
TZNAME:CDT
DTSTART:20250309T080000
END:DAYLIGHT
BEGIN:STANDARD
TZOFFSETFROM:-0500
TZOFFSETTO:-0600
TZNAME:CST
DTSTART:20251102T070000
END:STANDARD
END:VTIMEZONE
BEGIN:VEVENT
DTSTART;TZID=America/Chicago:20250708T183000
DTEND;TZID=America/Chicago:20250708T203000
DTSTAMP:20260421T162210
CREATED:20250609T211447Z
LAST-MODIFIED:20250704T160405Z
UID:2877-1751999400-1752006600@abilenerepublicanwomen.org
SUMMARY:ARW Regular Meeting
DESCRIPTION:Come find out about the new development north of town: Lancium. We will have a panel discussion with Phil Crowley\, County Judge\, Brad Burcham\, County Commissioner\, and Chris Watola\, of Lancium.
URL:https://abilenerepublicanwomen.org/event/arw-regular-meeting/
LOCATION:South Library\, Abilene\, 4310 Buffalo Gap Rd\, Abilene\, TX
END:VEVENT
END:VCALENDAR