BEGIN:VCALENDAR
VERSION:2.0
PRODID:-//Abilene Republican Women - ECPv6.10.2//NONSGML v1.0//EN
CALSCALE:GREGORIAN
METHOD:PUBLISH
X-WR-CALNAME:Abilene Republican Women
X-ORIGINAL-URL:https://abilenerepublicanwomen.org
X-WR-CALDESC:Events for Abilene Republican Women
REFRESH-INTERVAL;VALUE=DURATION:PT1H
X-Robots-Tag:noindex
X-PUBLISHED-TTL:PT1H
BEGIN:VTIMEZONE
TZID:America/Chicago
BEGIN:DAYLIGHT
TZOFFSETFROM:-0600
TZOFFSETTO:-0500
TZNAME:CDT
DTSTART:20250309T080000
END:DAYLIGHT
BEGIN:STANDARD
TZOFFSETFROM:-0500
TZOFFSETTO:-0600
TZNAME:CST
DTSTART:20251102T070000
END:STANDARD
END:VTIMEZONE
BEGIN:VEVENT
DTSTART;TZID=America/Chicago:20250622T180000
DTEND;TZID=America/Chicago:20250622T203000
DTSTAMP:20260421T180709
CREATED:20250607T221032Z
LAST-MODIFIED:20250607T221032Z
UID:2860-1750615200-1750624200@abilenerepublicanwomen.org
SUMMARY:Movie Night!
DESCRIPTION:Movie to be announced… stay tuned.
URL:https://abilenerepublicanwomen.org/event/movie-night/
LOCATION:South Library\, Abilene\, 4310 Buffalo Gap Rd\, Abilene\, TX
END:VEVENT
END:VCALENDAR