BEGIN:VCALENDAR
VERSION:2.0
PRODID:-//Abilene Republican Women - ECPv6.10.2//NONSGML v1.0//EN
CALSCALE:GREGORIAN
METHOD:PUBLISH
X-WR-CALNAME:Abilene Republican Women
X-ORIGINAL-URL:https://abilenerepublicanwomen.org
X-WR-CALDESC:Events for Abilene Republican Women
REFRESH-INTERVAL;VALUE=DURATION:PT1H
X-Robots-Tag:noindex
X-PUBLISHED-TTL:PT1H
BEGIN:VTIMEZONE
TZID:America/Chicago
BEGIN:DAYLIGHT
TZOFFSETFROM:-0600
TZOFFSETTO:-0500
TZNAME:CDT
DTSTART:20250309T080000
END:DAYLIGHT
BEGIN:STANDARD
TZOFFSETFROM:-0500
TZOFFSETTO:-0600
TZNAME:CST
DTSTART:20251102T070000
END:STANDARD
END:VTIMEZONE
BEGIN:VEVENT
DTSTART;TZID=America/Chicago:20250620T153000
DTEND;TZID=America/Chicago:20250620T170000
DTSTAMP:20260421T180738
CREATED:20250607T213620Z
LAST-MODIFIED:20250607T213620Z
UID:2848-1750433400-1750438800@abilenerepublicanwomen.org
SUMMARY:ARW Museum Excursion
DESCRIPTION:ARW Museum Excursion to the 12th Armored Division Museum\,\nJune 20th\, from 3:30-5:00\, with Dinner at Cypress Street Station at 5:00\, Dutch Treat.\nJoin us and bring family and friends to explore this Abilene Treasure!
URL:https://abilenerepublicanwomen.org/event/arw-museum-excursion/
LOCATION:12th Armored Division Museum\, 1289 N 2nd St\, Abilene\, TX\, 79601\, United States
END:VEVENT
END:VCALENDAR