BEGIN:VCALENDAR
VERSION:2.0
PRODID:-//Abilene Republican Women - ECPv6.10.2//NONSGML v1.0//EN
CALSCALE:GREGORIAN
METHOD:PUBLISH
X-ORIGINAL-URL:https://abilenerepublicanwomen.org
X-WR-CALDESC:Events for Abilene Republican Women
REFRESH-INTERVAL;VALUE=DURATION:PT1H
X-Robots-Tag:noindex
X-PUBLISHED-TTL:PT1H
BEGIN:VTIMEZONE
TZID:America/Chicago
BEGIN:DAYLIGHT
TZOFFSETFROM:-0600
TZOFFSETTO:-0500
TZNAME:CDT
DTSTART:20250309T080000
END:DAYLIGHT
BEGIN:STANDARD
TZOFFSETFROM:-0500
TZOFFSETTO:-0600
TZNAME:CST
DTSTART:20251102T070000
END:STANDARD
END:VTIMEZONE
BEGIN:VEVENT
DTSTART;TZID=America/Chicago:20250403T113000
DTEND;TZID=America/Chicago:20250403T130000
DTSTAMP:20260425T071204
CREATED:20250311T220134Z
LAST-MODIFIED:20250311T220134Z
UID:2727-1743679800-1743685200@abilenerepublicanwomen.org
SUMMARY:ARW Executive Board Meeting
DESCRIPTION:
URL:https://abilenerepublicanwomen.org/event/arw-executive-board-meeting/
LOCATION:Miguels Restaurant\, 3001 S Danville Dr\, Abilene\, Texas
END:VEVENT
END:VCALENDAR